Package: DeepTarget Version: 1.4.0 Command: /Library/Frameworks/R.framework/Resources/bin/R CMD build --keep-empty-dirs --no-resave-data DeepTarget StartedAt: 2025-10-30 16:38:09 -0400 (Thu, 30 Oct 2025) EndedAt: 2025-10-30 16:39:10 -0400 (Thu, 30 Oct 2025) EllapsedTime: 60.6 seconds RetCode: 0 Status: OK PackageFile: DeepTarget_1.4.0.tar.gz PackageFileSize: 2.796 MiB