Package: DeepPINCS Version: 1.17.0 Command: /home/biocbuild/R/R/bin/R CMD INSTALL DeepPINCS StartedAt: 2025-10-23 20:29:55 -0000 (Thu, 23 Oct 2025) EndedAt: 2025-10-23 20:30:14 -0000 (Thu, 23 Oct 2025) EllapsedTime: 19.1 seconds RetCode: 0 Status: OK