Package: DeepPINCS Version: 1.17.0 Command: /home/biocbuild/R/R/bin/R CMD build --keep-empty-dirs --no-resave-data DeepPINCS StartedAt: 2025-10-20 23:13:23 -0000 (Mon, 20 Oct 2025) EndedAt: 2025-10-20 23:13:59 -0000 (Mon, 20 Oct 2025) EllapsedTime: 36.0 seconds RetCode: 0 Status: OK PackageFile: DeepPINCS_1.17.0.tar.gz PackageFileSize: 2.464 MiB