Package: DeepPINCS Version: 1.17.0 Command: /Library/Frameworks/R.framework/Resources/bin/R CMD INSTALL DeepPINCS StartedAt: 2025-10-27 15:11:58 -0400 (Mon, 27 Oct 2025) EndedAt: 2025-10-27 15:12:21 -0400 (Mon, 27 Oct 2025) EllapsedTime: 22.5 seconds RetCode: 0 Status: OK