Package: DeepPINCS Version: 1.17.0 Command: /Library/Frameworks/R.framework/Resources/bin/R CMD build --keep-empty-dirs --no-resave-data DeepPINCS StartedAt: 2025-10-27 16:38:30 -0400 (Mon, 27 Oct 2025) EndedAt: 2025-10-27 16:39:43 -0400 (Mon, 27 Oct 2025) EllapsedTime: 73.1 seconds RetCode: 1 Status: ERROR PackageFile: None PackageFileSize: NA