Package: DeeDeeExperiment Version: 0.99.5 Command: /home/biocbuild/bbs-3.22-bioc/R/bin/R CMD INSTALL DeeDeeExperiment StartedAt: 2025-10-24 15:32:23 -0400 (Fri, 24 Oct 2025) EndedAt: 2025-10-24 15:32:54 -0400 (Fri, 24 Oct 2025) EllapsedTime: 31.2 seconds RetCode: 0 Status: OK