Package: DeeDeeExperiment Version: 1.0.0 Command: /Library/Frameworks/R.framework/Resources/bin/R CMD INSTALL DeeDeeExperiment StartedAt: 2025-11-03 15:27:05 -0500 (Mon, 03 Nov 2025) EndedAt: 2025-11-03 15:27:48 -0500 (Mon, 03 Nov 2025) EllapsedTime: 42.6 seconds RetCode: 0 Status: OK