Package: DeeDeeExperiment Version: 1.0.0 Command: rm -rf DeeDeeExperiment.buildbin-libdir && mkdir DeeDeeExperiment.buildbin-libdir && /Users/biocbuild/BBS/utils/build-universal.sh DeeDeeExperiment_1.0.0.tar.gz /Library/Frameworks/R.framework/Resources/bin/R DeeDeeExperiment.buildbin-libdir StartedAt: 2025-11-04 01:36:12 -0500 (Tue, 04 Nov 2025) EndedAt: 2025-11-04 01:36:54 -0500 (Tue, 04 Nov 2025) EllapsedTime: 42.7 seconds RetCode: 0 Status: OK PackageFile: DeeDeeExperiment_1.0.0.tgz PackageFileSize: 4.688 MiB