Package: DeconvoBuddies Version: 1.1.5 Command: /home/biocbuild/bbs-3.22-bioc/R/bin/R CMD INSTALL DeconvoBuddies StartedAt: 2025-10-24 16:05:44 -0400 (Fri, 24 Oct 2025) EndedAt: 2025-10-24 16:06:32 -0400 (Fri, 24 Oct 2025) EllapsedTime: 48.3 seconds RetCode: 0 Status: OK