Package: DeconRNASeq Version: 1.51.0 Command: /home/biocbuild/bbs-3.22-bioc/R/bin/R CMD INSTALL DeconRNASeq StartedAt: 2025-10-24 15:23:30 -0400 (Fri, 24 Oct 2025) EndedAt: 2025-10-24 15:23:37 -0400 (Fri, 24 Oct 2025) EllapsedTime: 7.0 seconds RetCode: 0 Status: OK