Package: DeconRNASeq Version: 1.51.0 Command: /home/biocbuild/bbs-3.22-bioc/R/bin/R CMD build --keep-empty-dirs --no-resave-data --md5 DeconRNASeq StartedAt: 2025-10-24 17:21:20 -0400 (Fri, 24 Oct 2025) EndedAt: 2025-10-24 17:21:29 -0400 (Fri, 24 Oct 2025) EllapsedTime: 9.0 seconds RetCode: 1 Status: ERROR PackageFile: None PackageFileSize: NA