Package: DeMAND Version: 1.39.0 Command: /home/biocbuild/bbs-3.22-bioc/R/bin/R CMD INSTALL DeMAND StartedAt: 2025-10-27 15:06:34 -0400 (Mon, 27 Oct 2025) EndedAt: 2025-10-27 15:06:44 -0400 (Mon, 27 Oct 2025) EllapsedTime: 9.8 seconds RetCode: 0 Status: OK