Package: DaMiRseq Version: 2.21.0 Command: /home/biocbuild/bbs-3.22-bioc/R/bin/R CMD INSTALL DaMiRseq StartedAt: 2025-10-24 16:03:39 -0400 (Fri, 24 Oct 2025) EndedAt: 2025-10-24 16:04:36 -0400 (Fri, 24 Oct 2025) EllapsedTime: 57.2 seconds RetCode: 0 Status: OK