Package: DaMiRseq Version: 2.22.0 Command: /Library/Frameworks/R.framework/Resources/bin/R CMD INSTALL DaMiRseq StartedAt: 2025-11-03 15:48:52 -0500 (Mon, 03 Nov 2025) EndedAt: 2025-11-03 15:50:10 -0500 (Mon, 03 Nov 2025) EllapsedTime: 78.5 seconds RetCode: 0 Status: OK