Package: DaMiRseq Version: 2.22.0 Command: /Library/Frameworks/R.framework/Resources/bin/R CMD build --keep-empty-dirs --no-resave-data DaMiRseq StartedAt: 2025-11-03 16:41:35 -0500 (Mon, 03 Nov 2025) EndedAt: 2025-11-03 16:50:47 -0500 (Mon, 03 Nov 2025) EllapsedTime: 552.5 seconds RetCode: 0 Status: OK PackageFile: DaMiRseq_2.22.0.tar.gz PackageFileSize: 4.216 MiB