Package: DaMiRseq Version: 2.22.0 Command: rm -rf DaMiRseq.buildbin-libdir && mkdir DaMiRseq.buildbin-libdir && /Users/biocbuild/BBS/utils/build-universal.sh DaMiRseq_2.22.0.tar.gz /Library/Frameworks/R.framework/Resources/bin/R DaMiRseq.buildbin-libdir StartedAt: 2025-11-04 01:35:54 -0500 (Tue, 04 Nov 2025) EndedAt: 2025-11-04 01:37:17 -0500 (Tue, 04 Nov 2025) EllapsedTime: 83.2 seconds RetCode: 0 Status: OK PackageFile: DaMiRseq_2.22.0.tgz PackageFileSize: 4.374 MiB