Package: DaMiRseq Version: 2.21.0 Command: rm -rf DaMiRseq.buildbin-libdir && mkdir DaMiRseq.buildbin-libdir && /Users/biocbuild/BBS/utils/build-universal.sh DaMiRseq_2.21.0.tar.gz /Library/Frameworks/R.framework/Resources/bin/R DaMiRseq.buildbin-libdir StartedAt: 2025-10-24 22:59:57 -0400 (Fri, 24 Oct 2025) EndedAt: 2025-10-24 23:00:22 -0400 (Fri, 24 Oct 2025) EllapsedTime: 25.6 seconds RetCode: 0 Status: OK PackageFile: DaMiRseq_2.21.0.tgz PackageFileSize: 4.38 MiB