Package: DaMiRseq Version: 2.22.0 Maintainer: Mattia Chiesa MaintainerEmail: mattia.chiesa at cardiologicomonzino.it git_url: https://git.bioconductor.org/packages/DaMiRseq git_branch: RELEASE_3_22 git_last_commit: 63d6fe2 git_last_commit_date: 2025-10-29 10:37:23 -0400 (Wed, 29 Oct 2025)