Package: DTA Version: 2.55.0 Command: /home/biocbuild/bbs-3.22-bioc/R/bin/R CMD build --keep-empty-dirs --no-resave-data --md5 DTA StartedAt: 2025-10-24 17:35:18 -0400 (Fri, 24 Oct 2025) EndedAt: 2025-10-24 17:40:14 -0400 (Fri, 24 Oct 2025) EllapsedTime: 295.3 seconds RetCode: 0 Status: OK PackageFile: DTA_2.55.0.tar.gz PackageFileSize: 11.19 MiB