Package: DSS Version: 2.57.0 Command: /home/biocbuild/bbs-3.22-bioc/R/bin/R CMD INSTALL DSS StartedAt: 2025-10-24 15:47:07 -0400 (Fri, 24 Oct 2025) EndedAt: 2025-10-24 15:47:47 -0400 (Fri, 24 Oct 2025) EllapsedTime: 39.8 seconds RetCode: 0 Status: OK