Package: DSS Version: 2.57.0 Command: /home/biocbuild/bbs-3.22-bioc/R/bin/R CMD build --keep-empty-dirs --no-resave-data --md5 DSS StartedAt: 2025-10-24 17:34:59 -0400 (Fri, 24 Oct 2025) EndedAt: 2025-10-24 17:36:01 -0400 (Fri, 24 Oct 2025) EllapsedTime: 62.0 seconds RetCode: 0 Status: OK PackageFile: DSS_2.57.0.tar.gz PackageFileSize: 2.03 MiB