Package: DRIMSeq Version: 1.37.0 Command: /home/biocbuild/R/R/bin/R CMD build --keep-empty-dirs --no-resave-data DRIMSeq StartedAt: 2025-10-20 23:29:27 -0000 (Mon, 20 Oct 2025) EndedAt: 2025-10-20 23:33:10 -0000 (Mon, 20 Oct 2025) EllapsedTime: 223.1 seconds RetCode: 0 Status: OK PackageFile: DRIMSeq_1.37.0.tar.gz PackageFileSize: 473.2 KiB