Package: DRIMSeq Version: 1.37.0 Command: /home/biocbuild/bbs-3.22-bioc/R/bin/R CMD INSTALL DRIMSeq StartedAt: 2025-10-24 15:43:49 -0400 (Fri, 24 Oct 2025) EndedAt: 2025-10-24 15:44:02 -0400 (Fri, 24 Oct 2025) EllapsedTime: 13.7 seconds RetCode: 0 Status: OK