Package: DRIMSeq Version: 1.37.0 Command: /home/biocbuild/bbs-3.22-bioc/R/bin/R CMD check --install=check:DRIMSeq.install-out.txt --library=/home/biocbuild/bbs-3.22-bioc/R/site-library --timings DRIMSeq_1.37.0.tar.gz StartedAt: 2025-10-24 23:18:12 -0400 (Fri, 24 Oct 2025) EndedAt: 2025-10-24 23:23:46 -0400 (Fri, 24 Oct 2025) EllapsedTime: 334.3 seconds RetCode: 0 Status: WARNINGS CheckDir: DRIMSeq.Rcheck Warnings: 1