Package: DRIMSeq Version: 1.37.0 Command: /Library/Frameworks/R.framework/Resources/bin/R CMD INSTALL DRIMSeq StartedAt: 2025-10-24 15:39:32 -0400 (Fri, 24 Oct 2025) EndedAt: 2025-10-24 15:39:52 -0400 (Fri, 24 Oct 2025) EllapsedTime: 19.2 seconds RetCode: 0 Status: OK