Package: DRIMSeq Version: 1.37.0 Command: /Library/Frameworks/R.framework/Resources/bin/R CMD build --keep-empty-dirs --no-resave-data DRIMSeq StartedAt: 2025-10-24 16:56:09 -0400 (Fri, 24 Oct 2025) EndedAt: 2025-10-24 16:59:02 -0400 (Fri, 24 Oct 2025) EllapsedTime: 172.8 seconds RetCode: 0 Status: OK PackageFile: DRIMSeq_1.37.0.tar.gz PackageFileSize: 480 KiB