Package: DOtools Version: 1.0.0 Command: /Library/Frameworks/R.framework/Resources/bin/R CMD INSTALL DOtools StartedAt: 2025-11-03 15:30:18 -0500 (Mon, 03 Nov 2025) EndedAt: 2025-11-03 15:30:37 -0500 (Mon, 03 Nov 2025) EllapsedTime: 18.7 seconds RetCode: 0 Status: OK