Package: DOtools Version: 1.0.0 Command: /Library/Frameworks/R.framework/Resources/bin/R CMD build --keep-empty-dirs --no-resave-data DOtools StartedAt: 2025-11-02 16:15:52 -0500 (Sun, 02 Nov 2025) EndedAt: 2025-11-02 16:17:42 -0500 (Sun, 02 Nov 2025) EllapsedTime: 110.2 seconds RetCode: 1 Status: ERROR PackageFile: None PackageFileSize: NA