Package: DOSE Version: 4.3.0 Command: /home/biocbuild/bbs-3.22-bioc/R/bin/R CMD INSTALL DOSE StartedAt: 2025-10-24 15:54:34 -0400 (Fri, 24 Oct 2025) EndedAt: 2025-10-24 15:54:59 -0400 (Fri, 24 Oct 2025) EllapsedTime: 24.7 seconds RetCode: 0 Status: OK