Package: DOSE Version: 4.3.0 Command: /home/biocbuild/bbs-3.22-bioc/R/bin/R CMD build --keep-empty-dirs --no-resave-data --md5 DOSE StartedAt: 2025-10-24 17:33:46 -0400 (Fri, 24 Oct 2025) EndedAt: 2025-10-24 17:34:22 -0400 (Fri, 24 Oct 2025) EllapsedTime: 36.0 seconds RetCode: 0 Status: OK PackageFile: DOSE_4.3.0.tar.gz PackageFileSize: 5.482 MiB