Package: DNEA Version: 0.99.14 Command: /home/biocbuild/bbs-3.22-bioc/R/bin/R CMD INSTALL DNEA StartedAt: 2025-10-27 15:40:07 -0400 (Mon, 27 Oct 2025) EndedAt: 2025-10-27 15:40:40 -0400 (Mon, 27 Oct 2025) EllapsedTime: 33.0 seconds RetCode: 0 Status: OK