Package: DNEA Version: 0.99.14 Command: /home/biocbuild/bbs-3.22-bioc/R/bin/R CMD build --keep-empty-dirs --no-resave-data --md5 DNEA StartedAt: 2025-10-27 17:24:33 -0400 (Mon, 27 Oct 2025) EndedAt: 2025-10-27 17:26:05 -0400 (Mon, 27 Oct 2025) EllapsedTime: 92.1 seconds RetCode: 0 Status: OK PackageFile: DNEA_0.99.14.tar.gz PackageFileSize: 4.306 MiB