Package: DNAshapeR Version: 1.37.0 Command: /home/biocbuild/bbs-3.22-bioc/R/bin/R CMD build --keep-empty-dirs --no-resave-data --md5 DNAshapeR StartedAt: 2025-10-24 17:32:41 -0400 (Fri, 24 Oct 2025) EndedAt: 2025-10-24 17:33:46 -0400 (Fri, 24 Oct 2025) EllapsedTime: 65.0 seconds RetCode: 0 Status: OK PackageFile: DNAshapeR_1.37.0.tar.gz PackageFileSize: 1.1 MiB