Package: DNAshapeR Version: 1.38.0 Command: /Library/Frameworks/R.framework/Resources/bin/R CMD INSTALL DNAshapeR StartedAt: 2025-11-03 15:22:32 -0500 (Mon, 03 Nov 2025) EndedAt: 2025-11-03 15:23:20 -0500 (Mon, 03 Nov 2025) EllapsedTime: 47.2 seconds RetCode: 0 Status: OK