Package: DNAshapeR Version: 1.38.0 Command: /Library/Frameworks/R.framework/Resources/bin/R CMD build --keep-empty-dirs --no-resave-data DNAshapeR StartedAt: 2025-11-03 16:51:08 -0500 (Mon, 03 Nov 2025) EndedAt: 2025-11-03 16:52:23 -0500 (Mon, 03 Nov 2025) EllapsedTime: 75.4 seconds RetCode: 0 Status: OK PackageFile: DNAshapeR_1.38.0.tar.gz PackageFileSize: 1.138 MiB