Package: DNAshapeR Version: 1.38.0 Command: rm -rf DNAshapeR.buildbin-libdir && mkdir DNAshapeR.buildbin-libdir && /Users/biocbuild/BBS/utils/build-universal.sh DNAshapeR_1.38.0.tar.gz /Library/Frameworks/R.framework/Resources/bin/R DNAshapeR.buildbin-libdir StartedAt: 2025-11-04 01:37:51 -0500 (Tue, 04 Nov 2025) EndedAt: 2025-11-04 01:38:44 -0500 (Tue, 04 Nov 2025) EllapsedTime: 52.8 seconds RetCode: 0 Status: OK PackageFile: DNAshapeR_1.38.0.tgz PackageFileSize: 1.309 MiB