Package: DNAfusion Version: 1.11.0 Command: /home/biocbuild/bbs-3.22-bioc/R/bin/R CMD INSTALL DNAfusion StartedAt: 2025-10-24 15:56:08 -0400 (Fri, 24 Oct 2025) EndedAt: 2025-10-24 15:56:41 -0400 (Fri, 24 Oct 2025) EllapsedTime: 32.8 seconds RetCode: 0 Status: OK