Package: DNAfusion Version: 1.12.0 Command: /home/biocbuild/bbs-3.22-bioc/R/bin/R CMD check --install=check:DNAfusion.install-out.txt --library=/home/biocbuild/bbs-3.22-bioc/R/site-library --timings DNAfusion_1.12.0.tar.gz StartedAt: 2025-10-30 23:05:36 -0400 (Thu, 30 Oct 2025) EndedAt: 2025-10-30 23:15:07 -0400 (Thu, 30 Oct 2025) EllapsedTime: 571.6 seconds RetCode: 0 Status: OK CheckDir: DNAfusion.Rcheck Warnings: 0