Package: DNAfusion Version: 1.11.0 Command: /home/biocbuild/bbs-3.22-bioc/R/bin/R CMD build --keep-empty-dirs --no-resave-data --md5 DNAfusion StartedAt: 2025-10-24 17:32:22 -0400 (Fri, 24 Oct 2025) EndedAt: 2025-10-24 17:34:57 -0400 (Fri, 24 Oct 2025) EllapsedTime: 155.1 seconds RetCode: 0 Status: OK PackageFile: DNAfusion_1.11.0.tar.gz PackageFileSize: 6.299 MiB