Package: DNAfusion Version: 1.11.0 Command: /Library/Frameworks/R.framework/Resources/bin/R CMD INSTALL DNAfusion StartedAt: 2025-10-24 15:47:11 -0400 (Fri, 24 Oct 2025) EndedAt: 2025-10-24 15:47:54 -0400 (Fri, 24 Oct 2025) EllapsedTime: 43.2 seconds RetCode: 0 Status: OK