Package: DNAfusion Version: 1.11.0 Command: /Library/Frameworks/R.framework/Resources/bin/R CMD build --keep-empty-dirs --no-resave-data DNAfusion StartedAt: 2025-10-24 16:54:49 -0400 (Fri, 24 Oct 2025) EndedAt: 2025-10-24 16:58:06 -0400 (Fri, 24 Oct 2025) EllapsedTime: 196.5 seconds RetCode: 0 Status: OK PackageFile: DNAfusion_1.11.0.tar.gz PackageFileSize: 6.298 MiB