Package: DNAfusion Version: 1.11.0 Command: rm -rf DNAfusion.buildbin-libdir && mkdir DNAfusion.buildbin-libdir && /Users/biocbuild/BBS/utils/build-universal.sh DNAfusion_1.11.0.tar.gz /Library/Frameworks/R.framework/Resources/bin/R DNAfusion.buildbin-libdir StartedAt: 2025-10-25 01:37:59 -0400 (Sat, 25 Oct 2025) EndedAt: 2025-10-25 01:38:47 -0400 (Sat, 25 Oct 2025) EllapsedTime: 47.4 seconds RetCode: 0 Status: OK PackageFile: DNAfusion_1.11.0.tgz PackageFileSize: 6.317 MiB