Package: DNAfusion Version: 1.11.0 Command: /Library/Frameworks/R.framework/Resources/bin/R CMD build --keep-empty-dirs --no-resave-data DNAfusion StartedAt: 2025-10-26 16:17:36 -0400 (Sun, 26 Oct 2025) EndedAt: 2025-10-26 16:18:40 -0400 (Sun, 26 Oct 2025) EllapsedTime: 63.6 seconds RetCode: 0 Status: OK PackageFile: DNAfusion_1.11.0.tar.gz PackageFileSize: 6.298 MiB