Package: DNAcycP2 Version: 1.1.0 Command: /home/biocbuild/bbs-3.22-bioc/R/bin/R CMD INSTALL DNAcycP2 StartedAt: 2025-10-27 15:13:26 -0400 (Mon, 27 Oct 2025) EndedAt: 2025-10-27 15:13:43 -0400 (Mon, 27 Oct 2025) EllapsedTime: 17.5 seconds RetCode: 0 Status: OK