Package: DNAcopy Version: 1.83.0 Command: /home/biocbuild/bbs-3.22-bioc/R/bin/R CMD INSTALL DNAcopy StartedAt: 2025-10-24 15:12:34 -0400 (Fri, 24 Oct 2025) EndedAt: 2025-10-24 15:12:44 -0400 (Fri, 24 Oct 2025) EllapsedTime: 10.0 seconds RetCode: 0 Status: OK