Package: DNABarcodes Version: 1.39.0 Command: /home/biocbuild/bbs-3.22-bioc/R/bin/R CMD INSTALL DNABarcodes StartedAt: 2025-10-27 15:07:10 -0400 (Mon, 27 Oct 2025) EndedAt: 2025-10-27 15:08:32 -0400 (Mon, 27 Oct 2025) EllapsedTime: 82.0 seconds RetCode: 0 Status: OK