Package: DNABarcodes Version: 1.39.0 Command: /Library/Frameworks/R.framework/Resources/bin/R CMD INSTALL DNABarcodes StartedAt: 2025-10-24 15:15:02 -0400 (Fri, 24 Oct 2025) EndedAt: 2025-10-24 15:16:18 -0400 (Fri, 24 Oct 2025) EllapsedTime: 75.5 seconds RetCode: 0 Status: OK