Package: DNABarcodes Version: 1.39.0 Command: /Library/Frameworks/R.framework/Resources/bin/R CMD build --keep-empty-dirs --no-resave-data DNABarcodes StartedAt: 2025-10-24 16:54:21 -0400 (Fri, 24 Oct 2025) EndedAt: 2025-10-24 16:55:51 -0400 (Fri, 24 Oct 2025) EllapsedTime: 90.0 seconds RetCode: 0 Status: OK PackageFile: DNABarcodes_1.39.0.tar.gz PackageFileSize: 347.8 KiB