Package: DNABarcodes Version: 1.39.0 Command: /Library/Frameworks/R.framework/Resources/bin/R CMD INSTALL DNABarcodes StartedAt: 2025-10-26 15:02:57 -0400 (Sun, 26 Oct 2025) EndedAt: 2025-10-26 15:03:20 -0400 (Sun, 26 Oct 2025) EllapsedTime: 23.2 seconds RetCode: 0 Status: OK