Package: DNABarcodes Version: 1.39.0 Command: /Library/Frameworks/R.framework/Resources/bin/R CMD build --keep-empty-dirs --no-resave-data DNABarcodes StartedAt: 2025-10-27 16:15:08 -0400 (Mon, 27 Oct 2025) EndedAt: 2025-10-27 16:15:33 -0400 (Mon, 27 Oct 2025) EllapsedTime: 25.3 seconds RetCode: 0 Status: OK PackageFile: DNABarcodes_1.39.0.tar.gz PackageFileSize: 347.9 KiB